BEGIN:VCALENDAR
VERSION:2.0
PRODID:-//Muzikamer Concerten - ECPv6.15.20//NONSGML v1.0//EN
CALSCALE:GREGORIAN
METHOD:PUBLISH
X-WR-CALNAME:Muzikamer Concerten
X-ORIGINAL-URL:https://muzikamer.nl
X-WR-CALDESC:Evenementen voor Muzikamer Concerten
REFRESH-INTERVAL;VALUE=DURATION:PT1H
X-Robots-Tag:noindex
X-PUBLISHED-TTL:PT1H
BEGIN:VTIMEZONE
TZID:UTC
BEGIN:STANDARD
TZOFFSETFROM:+0000
TZOFFSETTO:+0000
TZNAME:UTC
DTSTART:20220101T000000
END:STANDARD
END:VTIMEZONE
BEGIN:VEVENT
DTSTART;TZID=UTC:20231112T140000
DTEND;TZID=UTC:20231112T213000
DTSTAMP:20260423T150229
CREATED:20230917T102958Z
LAST-MODIFIED:20231111T151039Z
UID:1012-1699797600-1699824600@muzikamer.nl
SUMMARY:MUZIKAMER FESTIVAL in Glinstrastate\, Burgum
DESCRIPTION:Eindelijk kan het dan plaatsvinden\, het MUZIKAMER FESTIVAL. \nWe hebben als Muzikamer organisatie een klein\, maar intiem festival op poten gezet en wel op zondag 12 november 2023 in Glinstratstate in Burgum\, Met diverse artiesten die al eerder in de MUZIKAMER hebben opgetreden. \nHier de line-up; \n* SHIFT (Frank &  Piet) \n* Gerard & Compagnie \n* Henry Hendrikxs \n* Jan Huitenga \n* Hansl \n* Piet Kok \n* The Woodyband \nPresentatie Geart Bos. \nHet festival is GRATIS maar we vragen wel een vrijwillige bijdrage in de ‘Honesty Hat’. \nJe kunt ook eten in Glinstrastate tijdens het festival. Reserveer dan wel even! \nOmdat het fijn is te weten hoeveel mensen er komen kun je je alvast aanmelden op deze site!
URL:https://muzikamer.nl/kalender/muzikamer-festival-in-glinstrastate-burgum/
LOCATION:Glinstrastate\, Burgum\, Freek Bosgraafstraat 18\, Burgum\, Friesland\, 9251 CT\, Nederland
ATTACH;FMTTYPE=image/jpeg:https://muzikamer.nl/wp-content/uploads/2023/09/muzikamerFB.jpg
END:VEVENT
END:VCALENDAR