BEGIN:VCALENDAR
VERSION:2.0
PRODID:-//Muzikamer Concerten - ECPv6.15.20//NONSGML v1.0//EN
CALSCALE:GREGORIAN
METHOD:PUBLISH
X-WR-CALNAME:Muzikamer Concerten
X-ORIGINAL-URL:https://muzikamer.nl
X-WR-CALDESC:Evenementen voor Muzikamer Concerten
REFRESH-INTERVAL;VALUE=DURATION:PT1H
X-Robots-Tag:noindex
X-PUBLISHED-TTL:PT1H
BEGIN:VTIMEZONE
TZID:UTC
BEGIN:STANDARD
TZOFFSETFROM:+0000
TZOFFSETTO:+0000
TZNAME:UTC
DTSTART:20200101T000000
END:STANDARD
END:VTIMEZONE
BEGIN:VEVENT
DTSTART;TZID=UTC:20230416T150000
DTEND;TZID=UTC:20230416T173000
DTSTAMP:20260423T203010
CREATED:20230322T105319Z
LAST-MODIFIED:20230412T081204Z
UID:1001-1681657200-1681666200@muzikamer.nl
SUMMARY:Muzikamer Concert met Arjen Hut
DESCRIPTION:  \nBeste muziekvrienden\, \nHelaas moeten we jullie meedelen dat het Muzikamer Concert van 16 april a.s. niet doorgaat. \nWe hebben teveel afmeldingen gekregen de laatste weken waardoor het aantal bezoekers te gering is geworden. \nHet spijt ons dat we het zo laat aan jullie laten weten. We hoopten echter dat er vorige week zich nog bezoekers zouden melden. \nJammer maar we nodigen de gastartiest Arjen Hut natuurlijk graag uit bij het volgende concert! \nDe planning van dit jaar moeten we verder nog maken\, rekening houdend met de vakantie periode en de feestdagen. Daar ontvangen jullie zo snel mogelijk bericht over. \nDe Muzikameraden: Gerard &  Baudien\,en Frank & Wieke. \n  \nBeste muziekvrienden\, \nOp zondagmiddag 16 april ontvangen we een bijzondere gast\, namelijk de dichter Arjen Hut! \nHij zal voordragen uit eigen werk en natuurlijk uit zijn allernieuwste bundel. \nArjan Hut (1976) is een Friese dichter die in 2005 benoemd werd tot\neerste officiële stadsdichter van Leeuwarden. Zijn stijl is speels\,\ndromerig en eclectisch\, een beeldende schrijver\, gedichten klinken\nals taalmuziek. Recente bundels heten Aurora Bossa Nova (2016)\nen Fjoertoer yn it Wâld (2020). Hut besprak jarenlang muziek en\npoëzie voor het Friesch Dagblad. Sinds 2019 in dienst als\nWâlddichter van de gemeente Achtkarspelen\, waar hij opgroeide.\nMaakt podcasts over films\, boeken en muziek met Gabrielle\nTerpstra onder de naam “Net Ferkeard.” \nFrank en Gerard laten songs horen uit hun uitgebreide repertoire. (Gerard ook samen met Baudien). \nAanvang : 15.00 uur op Rengersweg 53\, 9062 EC in Oentsjerk. Om 14.30 staat de koffie/thee klaar! \nGraag parkeren op het parkeerterrein van de buurtvereniging BOB. Als je voor het huis van Gerard en Baudien staat is dit links naast het café gelegen(achter het witte huis). Als het weer het toelaat maken we gebruik van de tuin. \nGezien het beperkte aantal plaatsen reserveren via hoogcarspelfrank@gmail.com \nDe Muzikameraden: Gerard\, Baudien\, Frank en Wieke.
URL:https://muzikamer.nl/kalender/muzikamer-concert-met-arjen-hut/
LOCATION:Muzikamer Concrten\, Rengersweg 53\, Oentsjerk\, Fryslan\, 9062 EC\, Nederland
ATTACH;FMTTYPE=image/webp:https://muzikamer.nl/wp-content/uploads/2023/03/Dichter-Arjan-Hut-presenteerde-onlangs-zijn-vijfde-poeziebundel.webp
END:VEVENT
BEGIN:VEVENT
DTSTART;TZID=UTC:20230226T150000
DTEND;TZID=UTC:20230226T170000
DTSTAMP:20260423T203010
CREATED:20221127T113356Z
LAST-MODIFIED:20221229T095934Z
UID:971-1677423600-1677430800@muzikamer.nl
SUMMARY:Muzikamer Concert met Hansl
DESCRIPTION:Zondagmiddag 26 februari met als gastartiesten Hansl.\nZij hebben recent ook een CD uitgebracht met prachtige liederen: “Die Welt ist ein Meer voller Wunder”! \nGerard\, en Frank treden op\, soms vergezeld door bevriende muzikanten. \nWe kunnen minder gasten ontvangen dan voorheen. We denken aan zo’n 15 – 20 gasten.\nDaardoor kunnen we alleen gasten toelaten die gereserveerd hebben!\nAls er veel aanmeldingen zijn vinden we wel een oplossing door een extra concert in te plannen.\nZonder reservering helaas geen toegang!\nOei\, wat klinkt dat hard\, helaas is het wel nodig.\nReserveren via hoogcarspelfrank@gmail.com
URL:https://muzikamer.nl/kalender/muzikamer-concert-met-hansl/
LOCATION:MUZIKAMER\, Rengersweg 53\, Oentsjerk\, Fryslan\, 9062 EC\, Nederland
ATTACH;FMTTYPE=image/jpeg:https://muzikamer.nl/wp-content/uploads/2022/11/publiciteitsfoto-hansl.jpg
END:VEVENT
BEGIN:VEVENT
DTSTART;TZID=UTC:20230129T150000
DTEND;TZID=UTC:20230129T170000
DTSTAMP:20260423T203010
CREATED:20221127T113220Z
LAST-MODIFIED:20230111T080225Z
UID:967-1675004400-1675011600@muzikamer.nl
SUMMARY:Muzikamer Concert met Hans Wigman
DESCRIPTION:Zondagmiddag 29 januari met als gast artiest Hans Wigman. \n“Een béétje muzikant schrijft zijn eigen liedjes”\,wierp iemand mij eens voor de voeten.Dat prikkelde. Vanaf mijn 18e schreef ik al regelmatig gedichten maar vanaf dat moment kwamen er ook liedjes bij. Bij het schrijven vormt de tekst vrijwel altijd het uitgangspunt. Mijn liedjes hebben een uiteenlopend karakter\, zowel qua teksten als muziek\, maar hebben veelal een basis in de Brits/Ierse folkmuziek. Daarnaast zijn John Martyn\, Tim Buckley en Robin Williamson belangrijke inspiratiebronnen.\nSamen met een vriend ben ik ooit begonnen met het spelen van folkliedjes\, werk van Neil Young en eigen werk. Dit duo werd een kwartet door de toevoeging van een pianist en een dwarsfluitist.\nToen dat kwartet uit elkaar viel heb ik het trio Lyric opgericht\, ook gericht op folk maar vooral op eigen werk. Dit resulteerde in 2000 in de cd ‘Songs’ met daarop liedjes van ons alle drie. Toen werd het even wat stil op muzikaal terrein\, met name door de geboorte van mijn beide zoons. Maar rond 2010 begon het muzikale creatieve vuur weer te branden toen ik met een paar collega’s de band S’Moon\noprichtte. Deze band ging gaandeweg over in Fume Bridge\, de band waarmee ik nog steeds met veel plezier muziek maak. Fume Bridge speelt hoofdzakelijk eigen werk (van toetsenist Sebas en mijzelf) met een sound die je ‘classic rock’ kunt noemen.\nParallel daaraan heb ik de afgelopen jaren ook zeer veel solo materiaal geschreven\, eerst vooral met eigen teksten maar meer recent voornamelijk met gedichten van beroemde en minder beroemde dichters uit de 19e en begin 20e eeuw. Dit monddeuit in een in januari 2022 verschenen cd met de titel ‘O’er the singing woodlands’ (ook te beluisteren op Spotify en andere sites). Daarop worden eigen teksten afgewisseld met teksten van onder meer J.J. Slauerhoff\, A.E. Housman\, John Clare\, Emily Dickinson en T.C. Irwin. In 2023\, zo is de bedoeling\, verschijnt mijn tweede cd. \nDaarnaast Gerard\, en Frank treden op\, soms vergezeld door bevriende muzikanten. \nWe kunnen minder gasten ontvangen dan voorheen. We denken aan zo’n 15 – 20 gasten.\nDaardoor kunnen we alleen gasten toelaten die gereserveerd hebben!\nAls er veel aanmeldingen zijn vinden we wel een oplossing door een extra concert in te plannen.\nZonder reservering helaas geen toegang!\nOei\, wat klinkt dat hard\, helaas is het wel nodig.\nReserveren via: hoogcarspelfrank@gmail.com
URL:https://muzikamer.nl/kalender/muzikamer-concert-met-hans-wigman/
LOCATION:MUZIKAMER\, Rengersweg 53\, Oentsjerk\, Fryslan\, 9062 EC\, Nederland
ATTACH;FMTTYPE=image/jpeg:https://muzikamer.nl/wp-content/uploads/2022/11/Hans-Wigman-2.jpg
END:VEVENT
BEGIN:VEVENT
DTSTART;TZID=UTC:20211014T200000
DTEND;TZID=UTC:20211014T220000
DTSTAMP:20260423T203010
CREATED:20210918T114631Z
LAST-MODIFIED:20210918T114631Z
UID:951-1634241600-1634248800@muzikamer.nl
SUMMARY:Optreden Gérard Viel uit Normandië\, "Chanteur de Sornettes" - De zingende verteller!
DESCRIPTION:Gérard Viel is al van kinds af aan gefascineerd door liederen – chansons. Zijn ouders en ooms en tantes zongen bij elke gelegenheid om het geluk van het samenzijn te vieren. Zijn interesse in liederen en chansons uit de mondelinge traditie van het Franse taalgebied ontwikkelde zich in de jaren zeventig. Sindsdien heeft hij op talrijke reizen en via ontmoetingen met andere muzikanten een repertoire samengesteld van traditionele chansons uit Frankrijk\, Quebec\, Louisiana en Acadia. In dezelfde geest heeft Gérard ook zelf liederen gecomponeerd. \nHet repertoire van de “Fabelzanger” is gebaseerd op verhalen over het dagelijks leven\, gelukkige en ongelukkige liefde\, plattelandsleven\, onrecht\, barbaarse oorlogen. En er zijn ook chansons over wijn\, vrouwen en zang en gewoonweg goede tijden. \nLaat je meevoeren in het muzikale erfgoed van vroeger en vandaag\, van de  14e naar de 21e eeuw\, met uiteenlopende instrumenten als hakkebord\, hommel (Vlaamse epinette)\, 6- en 12-snarige gitaar en kabosy (gitaar uit Madagaskar).  Gérard Viel\, “Chanteur de Sornettes”\, laat je met humor reizen naar een land waar werkelijkheid en droom samensmelten!
URL:https://muzikamer.nl/kalender/optreden-gerard-viel-uit-normandie-chanteur-de-sornettes-de-zingende-verteller/
LOCATION:9257 WH Noardburgum\, Tsjerkepaed 28\, Noardburgum\, 9257 WH
ATTACH;FMTTYPE=image/jpeg:https://muzikamer.nl/wp-content/uploads/2021/09/DSCN5690.jpeg
END:VEVENT
BEGIN:VEVENT
DTSTART;TZID=UTC:20210627T150000
DTEND;TZID=UTC:20210627T170000
DTSTAMP:20260423T203010
CREATED:20210616T204038Z
LAST-MODIFIED:20210616T211757Z
UID:945-1624806000-1624813200@muzikamer.nl
SUMMARY:Muzikamer Concert
DESCRIPTION:Muzikamer Concert\nWanneer: zondag 27 juni\nWaar: Paviljoen MeM Buitenpost\nTijd: 15:00 uur (buitenfoyer open vanaf 14:00 uur)\nPrijs: € 10\,00 p.p. (incl. consumptie) \nRESERVEREN KLIK HIER! \nGerard & Compagnie: (folkmusic uit\, de smeltkroes van culturen\, die Verenigde Staten van Amerika heet. Akoestische muziek over de liefde\, het leven\, lijden\, werken\, hartstocht\, dood\, humor en melancholie). Gerard\, Baudien\, Alco\, Lieuwe en Tjeerd spelen een compilatie uit de diverse programma’s die zij in heden en verleden ten gehore hebben gebracht. \nThe Buzman: Frank en Bert brengen een mengeling van singer/songwriter en eigen composities ten gehore \nHeels and Sneakers: Steffen(gitaar\, zang) en zangeres Birgit weten het publiek steeds weer te verrassen met hun interpretatie van nummers in hun repertoire. Swingend en pakkend spelen ze bekende en minder bekende nummers. Het plezier in de muziek spat er van af! \n 
URL:https://muzikamer.nl/kalender/945/
LOCATION:Paviljoen Buitenpost MeM
ATTACH;FMTTYPE=image/jpeg:https://muzikamer.nl/wp-content/uploads/2021/06/201058994_332302901601940_2888406285452661672_n.jpg
END:VEVENT
END:VCALENDAR